BEGIN:VCALENDAR
VERSION:2.0
PRODID:-//Pfarrbereich-Schoenhausen.de - ECPv6.15.20//NONSGML v1.0//EN
CALSCALE:GREGORIAN
METHOD:PUBLISH
X-WR-CALNAME:Pfarrbereich-Schoenhausen.de
X-ORIGINAL-URL:https://pfarrbereich-schoenhausen.de
X-WR-CALDESC:Veranstaltungen für Pfarrbereich-Schoenhausen.de
REFRESH-INTERVAL;VALUE=DURATION:PT1H
X-Robots-Tag:noindex
X-PUBLISHED-TTL:PT1H
BEGIN:VTIMEZONE
TZID:Europe/Berlin
BEGIN:DAYLIGHT
TZOFFSETFROM:+0100
TZOFFSETTO:+0200
TZNAME:CEST
DTSTART:20250330T010000
END:DAYLIGHT
BEGIN:STANDARD
TZOFFSETFROM:+0200
TZOFFSETTO:+0100
TZNAME:CET
DTSTART:20251026T010000
END:STANDARD
BEGIN:DAYLIGHT
TZOFFSETFROM:+0100
TZOFFSETTO:+0200
TZNAME:CEST
DTSTART:20260329T010000
END:DAYLIGHT
BEGIN:STANDARD
TZOFFSETFROM:+0200
TZOFFSETTO:+0100
TZNAME:CET
DTSTART:20261025T010000
END:STANDARD
BEGIN:DAYLIGHT
TZOFFSETFROM:+0100
TZOFFSETTO:+0200
TZNAME:CEST
DTSTART:20270328T010000
END:DAYLIGHT
BEGIN:STANDARD
TZOFFSETFROM:+0200
TZOFFSETTO:+0100
TZNAME:CET
DTSTART:20271031T010000
END:STANDARD
END:VTIMEZONE
BEGIN:VEVENT
DTSTART;TZID=Europe/Berlin:20260419T090000
DTEND;TZID=Europe/Berlin:20260419T100000
DTSTAMP:20260419T163716
CREATED:20251220T145818Z
LAST-MODIFIED:20251220T145818Z
UID:1600-1776589200-1776592800@pfarrbereich-schoenhausen.de
SUMMARY:Gottesdienst in Molkenberg
DESCRIPTION:Miserikordias Domini
URL:https://pfarrbereich-schoenhausen.de/event/gottesdienst-in-molkenberg-41/
LOCATION:Molkenberg\, Molkenberg\, Molkenberg\, 14715
CATEGORIES:Gottesdienste
END:VEVENT
BEGIN:VEVENT
DTSTART;TZID=Europe/Berlin:20260419T103000
DTEND;TZID=Europe/Berlin:20260419T113000
DTSTAMP:20260419T163716
CREATED:20251220T145818Z
LAST-MODIFIED:20251220T145818Z
UID:1601-1776594600-1776598200@pfarrbereich-schoenhausen.de
SUMMARY:Gottesdienst in Schönhausen
DESCRIPTION:Miserikordias Domini
URL:https://pfarrbereich-schoenhausen.de/event/gottesdienst-in-schoenhausen-197/
LOCATION:Schönhausen\, Kirchberg 3\, Schönhausen (Elbe)\, 39524
CATEGORIES:Gottesdienste
END:VEVENT
END:VCALENDAR